Workbook

Sheet Trošenje sredstava
A1: JAVNA USTANOVA NACIONALNI PARK PLITVIČKA JEZERA
A2: KATEGORIJA 1
A3: INFORMACIJA O TROŠENJU SREDSTAVA ZA KOLOVOZ 2026. GODINE
A5: Naziv primatelja | B5: OIB primatelja | C5: Sjedište primatelja | D5: Način objave isplaćenog iznosa (EUR) | E5: Vrsta rashoda i izdatka
A6: 3M CVIJEĆARNICA OBRT vl. Martina Mejaški | B6: 63366665903 | C6: SLUNJ | D6: 160 | E6: 3222 - Materijal i sirovine
A7: ABISAL d.o.o. | B7: 77426191417 | C7: RIJEKA | D7: 700 | E7: 3213 - Stručno usavršavanje zaposlenika
A8: ACSI Publishing B.V. | C8: DR ANDELST | D8: 186.17 | E8: 3233 - Usluge promidžbe i informiranja
A9: ACSI Publishing B.V. | C9: DR ANDELST | D9: 377.75 | E9: 3239 - Ostale usluge
A10: AHAT D.O.O. | B10: 63328987619 | C10: ZAGREB | D10: 1093.9 | E10: 3222 - Materijal i sirovine
A11: ALARM AUTOMATIKA D.O.O. | B11: 30532290707 | C11: RIJEKA | D11: 6248.27 | E11: 3232 - Usluge tekućeg i investicijskog održavanja
A12: ALCA ZAGREB d.o.o. | B12: 58353015102 | C12: ZAGREB | D12: 34387.42 | E12: 3221 - Uredski materijal i ostali materijalni rashodi
A13: ALLORES d.o.o. | B13: 21551756555 | C13: OPATIJA | D13: 8737.5 | E13: 3221 - Uredski materijal i ostali materijalni rashodi
A14: ALLORES d.o.o. | B14: 21551756555 | C14: OPATIJA | D14: 0 | E14: 3222 - Materijal i sirovine
A15: AQUA V.M.V. D.O.O. | B15: 86879014193 | C15: ZAGREB | D15: 266.25 | E15: 3221 - Uredski materijal i ostali materijalni rashodi
A16: ARTA - PROJEKTIRANJE D.O.O. | B16: 86036234084 | C16: ZAGREB | D16: 5000 | E16: 3237 - Intelektualne i osobne usluge
A17: ATLANTIC TRADE d.o.o. | B17: 65106679992 | C17: ZAGREB | D17: 3203.14 | E17: 3222 - Materijal i sirovine
A18: AUGUŠTANEC d.o.o | B18: 18744122909 | C18: ZAGREB | D18: 45476.04 | E18: 3222 - Materijal i sirovine
A19: AUTO HORVAT D.O.O. | B19: 31553410597 | C19: DRAGANIĆI | D19: 0 | E19: 3224 - Materijal i dijelovi za tekuće i investicijsko održavanje
A20: AUTO HRVATSKA PSC D.O.O. | B20: 87682591133 | C20: KARLOVAC | D20: 387.5 | E20: 3221 - Uredski materijal i ostali materijalni rashodi
A21: AUTO HRVATSKA PSC D.O.O. | B21: 87682591133 | C21: KARLOVAC | D21: 0 | E21: 3239 - Ostale usluge
A22: AUTO KAMP 'KORANA' - RECEPCIJA - 1711 | C22: MJESTO | D22: 18167.8 | E22: 3295 - Pristojbe i naknade
A23: AUTOELEKTRIČARSKI OBRT - VUKOVIĆ | B23: 04835588743 | C23: RAKOVICA | D23: 1108.13 | E23: 3231 - Usluge telefona, pošte i prijevoza
A24: AUTOKLUB KARLOVAC D.O.O. | B24: 80961444616 | C24: KARLOVAC | D24: 0 | E24: 3221 - Uredski materijal i ostali materijalni rashodi
A25: AUTOKLUB KARLOVAC D.O.O. | B25: 80961444616 | C25: KARLOVAC | D25: 868.1 | E25: 3224 - Materijal i dijelovi za tekuće i investicijsko održavanje
A26: AUTOMAT-T.N. d.o.o. | B26: 77904687906 | C26: ZAGREB | D26: 24581.63 | E26: 4222 - Komunikacijska oprema
A27: AVR.D.O.O. | B27: 79612787745 | C27: ZAGREB | D27: 246.36 | E27: 3224 - Materijal i dijelovi za tekuće i investicijsko održavanje
A28: AWT INTERNATIONAL D.O.O. | B28: 57159149897 | C28: ZAGREB | D28: 3019.88 | E28: 3222 - Materijal i sirovine
A29: B.P.A ZAGREB | B29: 29434328861 | C29: ZAGREB | D29: 5069.63 | E29: 3232 - Usluge tekućeg i investicijskog održavanja
A30: BAZENI HR. D.O.O. | B30: 72767284497 | C30: ZAGREB | D30: 5913.91 | E30: 3232 - Usluge tekućeg i investicijskog održavanja
A31: BIO ULJA d.o.o. | B31: 23960162181 | C31: ŠIBENIK | D31: 2175.51 | E31: 3234 - Komunalne usluge
A32: BIOAROMATICA D.O.O. | B32: 22129714117 | C32: ZAGREB | D32: 213.79 | E32: 3222 - Materijal i sirovine
A33: BLATINA d.o.o. | B33: 03829113389 | C33: ZAGREB | D33: 26173.62 | E33: 3222 - Materijal i sirovine
A34: BLEU HOMME d.o.o. | B34: 73550495190 | C34: ZAGREB | D34: 54.92 | E34: 3222 - Materijal i sirovine
A35: BOOKING.COM B.V. | C35: Amsterdam | D35: 18787.22 | E35: 3239 - Ostale usluge
A36: CENTAR ZA DIGITALIZACIJU d.o.o. | B36: 76647480594 | C36: ZAGREB | D36: 0 | E36: 3233 - Usluge promidžbe i informiranja
A37: CENTAR ZA DIGITALIZACIJU d.o.o. | B37: 76647480594 | C37: ZAGREB | D37: 2031.25 | E37: 3238 - Računalne usluge
A38: CENTAR ZA VOZILA HRVATSKE | B38: 73294314024 | C38: ZAGREB | D38: 1865.28 | E38: 3239 - Ostale usluge
A39: CITARA D.O.O. | B39: 63075963195 | C39: ZAGREB | D39: 8125 | E39: 4227 - Uređaji, strojevi i oprema za ostale namjene
A40: COMEL D.O.O. | B40: 11085290021 | C40: KARLOVAC | D40: 37.43 | E40: 3221 - Uredski materijal i ostali materijalni rashodi
A41: COMEL D.O.O. | B41: 11085290021 | C41: KARLOVAC | D41: 32 | E41: 3225 - Sitni inventar i auto gume
A42: COMEL D.O.O. | B42: 11085290021 | C42: KARLOVAC | D42: 32 | E42: 3232 - Usluge tekućeg i investicijskog održavanja
A43: CONSTRUCTION PROJECT D.O.O. za projektiranje i građenje | B43: 53502353097 | C43: ZAGREB | D43: 1800 | E43: 3232 - Usluge tekućeg i investicijskog održavanja
A44: CONSTRUCTION PROJECT D.O.O. za projektiranje i građenje | B44: 53502353097 | C44: ZAGREB | D44: 0 | E44: 3237 - Intelektualne i osobne usluge
A45: CONTY ILLUSION d.o.o. | B45: 33018422832 | C45: ZAGREB | D45: 403.26 | E45: 3222 - Materijal i sirovine
A46: CROATIA FILM D.O.O. | B46: 74221993288 | C46: ZAGREB | D46: 92.63 | E46: 3222 - Materijal i sirovine
A47: CROATIA OSIGURANJE D.D. | B47: 26187994862 | C47: ZAGREB | D47: 9425.29 | E47: 3292 - Premije osiguranja
... A81: EUROPROM D.O.O. | B81: 52602105279 | C81: KARLOVAC | D81: 15885.75 | E81: 3222 - Materijal i sirovine
A82: EXPEDIA LODGING PARTNER SERVICES SARL | C82: GENEVE | D82: 902.49 | E82: 3239 - Ostale usluge
A83: EXTRA POINT d.o.o. | B83: 97755222599 | C83: POREČ | D83: 1492.2 | E83: 3221 - Uredski materijal i ostali materijalni rashodi
A84: FINA FINANCIJSKA AGENCIJA | B84: 85821130368 | C84: ZAGREB | D84: 53.09 | E84: 3295 - Pristojbe i naknade
A85: FINA FINANCIJSKA AGENCIJA | B85: 85821130368 | C85: ZAGREB | D85: 1497.11 | E85: 3431 - Bankarske usluge i usluge platnog prometa
A86: FOLKLORNI ANSAMBL IVAN MAŽURANIĆ KARLOVAC | B86: 49723986970 | C86: KARLOVAC | D86: 1260 | E86: 3237 - Intelektualne i osobne usluge
A87: FOREL PROJEKT d.o.o. Zagrebačka avenija 104 ZAGREB | B87: 70207864520 | C87: ZAGREB | D87: 0 | E87: 3237 - Intelektualne i osobne usluge
A88: FOREL PROJEKT d.o.o. Zagrebačka avenija 104 ZAGREB | B88: 70207864520 | C88: ZAGREB | D88: 13640 | E88: 4511 - Dodatna ulaganja na građevinskim objektima
A89: FRANCK DD | B89: 07676693758 | C89: ZAGREB | D89: 15280.68 | E89: 3222 - Materijal i sirovine
A90: FRANCK DD | B90: 07676693758 | C90: ZAGREB | D90: 23.64 | E90: 3433 - Zatezne kamate
A91: GALLERIA INTERNAZIONALE D.O.O. Tvornica zdrave hrane | B91: 15724166318 | C91: ZAGREB SUSEDGRAD | D91: 343.36 | E91: 3222 - Materijal i sirovine
A92: GASTRO PANTHENON D.O.O. | B92: 43613828760 | C92: ZAGREB - NOVI ZAGREB | D92: 4012.13 | E92: 3222 - Materijal i sirovine
A93: GASTRONOMADI d.o.o. | B93: 50760695038 | C93: ZAGREB | D93: 25000 | E93: 3213 - Stručno usavršavanje zaposlenika
A94: GDi D.O.O. | B94: 95032181708 | C94: ZAGREB | D94: 33112.5 | E94: 3238 - Računalne usluge
... A114: HODAK D.O.O. | B114: 30682971901 | C114: ZAGREB SUSEDGRAD | D114: 187.5 | E114: 3238 - Računalne usluge
A115: HOTEL 'JEZERO' - RECEPCIJA - 1001 | C115: MJESTO | D115: 8858.25 | E115: 3295 - Pristojbe i naknade
A116: HPB Hrvatska poštanska banka d.d. | B116: 87939104217 | C116: ZAGREB | D116: 1.64 | E116: 3295 - Pristojbe i naknade
A117: HPB Hrvatska poštanska banka d.d. | B117: 87939104217 | C117: ZAGREB | D117: 9752.5 | E117: 3431 - Bankarske usluge i usluge platnog prometa
A118: HRT HRVATSKA RADIO TELEVIZIJA | B118: 68419124305 | C118: ZAGREB | D118: 0 | E118: 3222 - Materijal i sirovine
A119: HRT HRVATSKA RADIO TELEVIZIJA | B119: 68419124305 | C119: ZAGREB | D119: 1343.63 | E119: 3233 - Usluge promidžbe i informiranja
A120: HRT HRVATSKA RADIO TELEVIZIJA | B120: 68419124305 | C120: ZAGREB | D120: 2994.84 | E120: 3295 - Pristojbe i naknade
A121: HRVATSKA GOSPODARSKA KOMORA | B121: 85167032587 | C121: ZAGREB | D121: 20 | E121: 3294 - Članarine i norme
A122: HRVATSKE ŠUME UŠP KARLOVAC | B122: 69693144506 | C122: KARLOVAC | D122: 1500 | E122: 3235 - Zakupnine i najamnine
A123: HRVATSKE VODE | B123: 28921383001 | C123: ZAGREB | D123: 16535.49 | E123: 3295 - Pristojbe i naknade
A124: HRVATSKI KIŠOBRAN D.O.O.(tabacco doo) | B124: 16330300003 | C124: ZAPREŠIĆ | D124: 1375.55 | E124: 3222 - Materijal i sirovine
A125: HRVATSKI PRIRODOSLOVNI MUZEJ | B125: 53150371536 | C125: ZAGREB | D125: 2000 | E125: 3237 - Intelektualne i osobne usluge
A126: HRVATSKI REGISTAR BRODOVA d.o.o | B126: 04601923208 | C126: SPLIT | D126: 6496.63 | E126: 3232 - Usluge tekućeg i investicijskog održavanja
A127: HRVATSKI TELEKOM D.D. | B127: 81793146560 | C127: ZAGREB | D127: 1361.42 | E127: 3231 - Usluge telefona, pošte i prijevoza
... A252: OBRT ZA PROIZVODNJU I PRODAJU PILJENE GRAĐE VL.STIPE JANDRIĆ | B252: 66525555871 | C252: RAKOVICA | D252: 170.38 | E252: 3239 - Ostale usluge
A253: OBRTNIČKA DJELATNOST - PROFI TEAM | C253: SARAJEVO | D253: 2811.59 | E253: 3222 - Materijal i sirovine
A254: ODVJETNIK ANTON PALIĆ | B254: 67397419486 | C254: ZAGREB | D254: 7605.66 | E254: 3237 - Intelektualne i osobne usluge
A255: OIKON d.o.o. | B255: 63588853294 | C255: ZAGREB - NOVI ZAGREB | D255: 0 | E255: 3222 - Materijal i sirovine
A256: OIKON d.o.o. | B256: 63588853294 | C256: ZAGREB - NOVI ZAGREB | D256: 24750 | E256: 3237 - Intelektualne i osobne usluge
A257: OPĆINA PLITVIČKA JEZERA | B257: 58932233075 | C257: KORENICA | D257: 59049.21 | E257: 3295 - Pristojbe i naknade
A258: OPĆINA SABORSKO | B258: 97869213325 | C258: SABORSKO | D258: 291.6 | E258: 3295 - Pristojbe i naknade
A259: OPĆINA UDBINA | B259: 17826406163 | C259: UDBINA | D259: 926.29 | E259: 3295 - Pristojbe i naknade
A260: Općinski sud u Gospiću | B260: 29608777564 | C260: GOSPIĆ | D260: 1599.48 | E260: 3237 - Intelektualne i osobne usluge
A261: OPG DRAGOVIĆ IVAN | B261: 49953356718 | C261: METKOVIĆ | D261: 1431.8 | E261: 3222 - Materijal i sirovine
A262: OPG Hrvoje Veber Kvarnerska 17 SLAVONSKI BROD | B262: 09368844528 | C262: SIBINJ | D262: 904.45 | E262: 3222 - Materijal i sirovine
A263: ORANGE d.o.o. | B263: 00363177306 | C263: VARAŽDIN | D263: 3807.32 | E263: 3222 - Materijal i sirovine
A264: ORBICO d.o.o. | B264: 85611744662 | C264: ZAGREB | D264: 18819.33 | E264: 3222 - Materijal i sirovine
A265: ORCUS PLUS d.o.o. | B265: 70812508533 | C265: DRAŽICE | D265: 11736.68 | E265: 3221 - Uredski materijal i ostali materijalni rashodi
... A277: PIK VRBOVEC plus d.o.o. | B277: 41976933718 | C277: VRBOVEC | D277: 11159.18 | E277: 3222 - Materijal i sirovine
A278: PINCAMP GmbH - ADAC Camping GmbH | C278: MüNCHEN | D278: 627.12 | E278: 3239 - Ostale usluge
A279: PINOY 385 d.o.o. | B279: 86556440901 | C279: ZAGREB | D279: 0 | E279: 3222 - Materijal i sirovine
A280: PINOY 385 d.o.o. | B280: 86556440901 | C280: ZAGREB | D280: 32887.5 | E280: 3239 - Ostale usluge
A281: PIP D.O.O. | B281: 37364743662 | C281: PISAROVINA | D281: 481.2 | E281: 3222 - Materijal i sirovine
A282: PIVOVARA LIČANKA D.O.O. | B282: 96075941043 | C282: ZAGREB | D282: 19946.82 | E282: 3222 - Materijal i sirovine
A283: PLITVICE TRAVEL | B283: 29279711702 | C283: KORENICA | D283: 0 | E283: 3233 - Usluge promidžbe i informiranja
A284: PLITVICE TRAVEL | B284: 29279711702 | C284: KORENICA | D284: 600 | E284: 3237 - Intelektualne i osobne usluge
A285: PLODINE d.d. | B285: 92510683607 | C285: OTOČAC | D285: 38.35 | E285: 3222 - Materijal i sirovine
A286: PNEUMATIK D.O.O. | B286: 68256909072 | C286: ZAGREB SUSEDGRAD | D286: 120 | E286: 3225 - Sitni inventar i auto gume
A287: PODRAVKA d.d. | B287: 18928523252 | C287: KOPRIVNICA | D287: 12795.52 | E287: 3222 - Materijal i sirovine
A288: POLJOOPSKRBA-MEĐUNARODNA TRGOVINA d.o.o. | B288: 06928938729 | C288: ZAGREB | D288: 0 | E288: 3222 - Materijal i sirovine
...

Sheet Trošenje sredstava po kontima
A1: JAVNA USTANOVA NACIONALNI PARK PLITVIČKA JEZERA
A2: KATEGORIJA 1
A3: INFORMACIJA O TROŠENJU SREDSTAVA ZA KOLOVOZ 2026. GODINE
A5: Naziv primatelja | B5: OIB primatelja | C5: Sjedište primatelja | D5: Način objave isplaćenog iznosa (EUR) | E5: Vrsta rashoda i izdatka
A6: ='Trošenje sredstava'!A7 -> ABISAL d.o.o. | B6: ='Trošenje sredstava'!B7 -> 77426191417 | C6: ='Trošenje sredstava'!C7 -> RIJEKA | D6: ='Trošenje sredstava'!D7 -> 700 | E6: ='Trošenje sredstava'!E7 -> 3213 - Stručno usavršavanje zaposlenika
A7: ='Trošenje sredstava'!A93 -> GASTRONOMADI d.o.o. | B7: ='Trošenje sredstava'!B93 -> 50760695038 | C7: ='Trošenje sredstava'!C93 -> ZAGREB | D7: ='Trošenje sredstava'!D93 -> 25000 | E7: ='Trošenje sredstava'!E93 -> 3213 - Stručno usavršavanje zaposlenika
A8: ='Trošenje sredstava'!A317 -> RUDAN D.O.O. | B8: ='Trošenje sredstava'!B317 -> 84430586938 | C8: ='Trošenje sredstava'!C317 -> ŽMINJ | D8: ='Trošenje sredstava'!D317 -> 32375 | E8: ='Trošenje sredstava'!E317 -> 3213 - Stručno usavršavanje zaposlenika
A9: ='Trošenje sredstava'!A392 -> ZAVOD ZA ISPITIVANJE KVALITETE D.O.O.- ZIK | B9: ='Trošenje sredstava'!B392 -> 74121470605 | C9: ='Trošenje sredstava'!C392 -> ZAGREB | D9: ='Trošenje sredstava'!D392 -> 2205 | E9: ='Trošenje sredstava'!E392 -> 3213 - Stručno usavršavanje zaposlenika
A10: ='Trošenje sredstava'!A398 -> ZAVOD ZA TURIZEM IN KULTURO KRANJ | C10: ='Trošenje sredstava'!C398 -> KRANJ | D10: ='Trošenje sredstava'!D398 -> 360 | E10: ='Trošenje sredstava'!E398 -> 3213 - Stručno usavršavanje zaposlenika
A11: ='Trošenje sredstava'!A400 -> ZIRS D.D. | B11: ='Trošenje sredstava'!B400 -> 05494093403 | C11: ='Trošenje sredstava'!C400 -> ZAGREB | D11: ='Trošenje sredstava'!D400 -> 625 | E11: ='Trošenje sredstava'!E400 -> 3213 - Stručno usavršavanje zaposlenika
A12: UKUPNO | D12: =SUM(D6:D11) -> 61265 | E12: 3213 - Stručno usavršavanje zaposlenika
A14: ='Trošenje sredstava'!A12 -> ALCA ZAGREB d.o.o. | B14: ='Trošenje sredstava'!B12 -> 58353015102 | C14: ='Trošenje sredstava'!C12 -> ZAGREB | D14: ='Trošenje sredstava'!D12 -> 34387.42 | E14: ='Trošenje sredstava'!E12 -> 3221 - Uredski materijal i ostali materijalni rashodi
A15: ='Trošenje sredstava'!A13 -> ALLORES d.o.o. | B15: ='Trošenje sredstava'!B13 -> 21551756555 | C15: ='Trošenje sredstava'!C13 -> OPATIJA | D15: ='Trošenje sredstava'!D13 -> 8737.5 | E15: ='Trošenje sredstava'!E13 -> 3221 - Uredski materijal i ostali materijalni rashodi
A16: ='Trošenje sredstava'!A15 -> AQUA V.M.V. D.O.O. | B16: ='Trošenje sredstava'!B15 -> 86879014193 | C16: ='Trošenje sredstava'!C15 -> ZAGREB | D16: ='Trošenje sredstava'!D15 -> 266.25 | E16: ='Trošenje sredstava'!E15 -> 3221 - Uredski materijal i ostali materijalni rashodi
A17: ='Trošenje sredstava'!A20 -> AUTO HRVATSKA PSC D.O.O. | B17: ='Trošenje sredstava'!B20 -> 87682591133 | C17: ='Trošenje sredstava'!C20 -> KARLOVAC | D17: ='Trošenje sredstava'!D20 -> 387.5 | E17: ='Trošenje sredstava'!E20 -> 3221 - Uredski materijal i ostali materijalni rashodi
A18: ='Trošenje sredstava'!A24 -> AUTOKLUB KARLOVAC D.O.O. | B18: ='Trošenje sredstava'!B24 -> 80961444616 | C18: ='Trošenje sredstava'!C24 -> KARLOVAC | D18: ='Trošenje sredstava'!D24 -> 0 | E18: ='Trošenje sredstava'!E24 -> 3221 - Uredski materijal i ostali materijalni rashodi
A19: ='Trošenje sredstava'!A40 -> COMEL D.O.O. | B19: ='Trošenje sredstava'!B40 -> 11085290021 | C19: ='Trošenje sredstava'!C40 -> KARLOVAC | D19: ='Trošenje sredstava'!D40 -> 37.43 | E19: ='Trošenje sredstava'!E40 -> 3221 - Uredski materijal i ostali materijalni rashodi
A20: ='Trošenje sredstava'!A52 -> DERMA D.D. | B20: ='Trošenje sredstava'!B52 -> 16891143389 | C20: ='Trošenje sredstava'!C52 -> VARAŽDIN | D20: ='Trošenje sredstava'!D52 -> 2484 | E20: ='Trošenje sredstava'!E52 -> 3221 - Uredski materijal i ostali materijalni rashodi
A21: ='Trošenje sredstava'!A68 -> EFEKTIVNI MIKROORGAMIZMI ORIGINALNA | B21: ='Trošenje sredstava'!B68 -> 51766004021 | C21: ='Trošenje sredstava'!C68 -> RIJEKA | D21: ='Trošenje sredstava'!D68 -> 1214.63 | E21: ='Trošenje sredstava'!E68 -> 3221 - Uredski materijal i ostali materijalni rashodi
A22: ='Trošenje sredstava'!A79 -> EURO ROSA IP d.o.o. | B22: ='Trošenje sredstava'!B79 -> 58421021869 | C22: ='Trošenje sredstava'!C79 -> KRAPINA | D22: ='Trošenje sredstava'!D79 -> 495 | E22: ='Trošenje sredstava'!E79 -> 3221 - Uredski materijal i ostali materijalni rashodi
A23: ='Trošenje sredstava'!A83 -> EXTRA POINT d.o.o. | B23: ='Trošenje sredstava'!B83 -> 97755222599 | C23: ='Trošenje sredstava'!C83 -> POREČ | D23: ='Trošenje sredstava'!D83 -> 1492.2 | E23: ='Trošenje sredstava'!E83 -> 3221 - Uredski materijal i ostali materijalni rashodi
A24: ='Trošenje sredstava'!A102 -> GRIFFON WASTE MANAGEMENT d.o.o. | B24: ='Trošenje sredstava'!B102 -> 48437782274 | C24: ='Trošenje sredstava'!C102 -> ZAGREB | D24: ='Trošenje sredstava'!D102 -> 1443.75 | E24: ='Trošenje sredstava'!E102 -> 3221 - Uredski materijal i ostali materijalni rashodi
A25: ='Trošenje sredstava'!A138 -> INFOLAB d.o.o. | B25: ='Trošenje sredstava'!B138 -> 41823200992 | C25: ='Trošenje sredstava'!C138 -> ZAGREB | D25: ='Trošenje sredstava'!D138 -> 20 | E25: ='Trošenje sredstava'!E138 -> 3221 - Uredski materijal i ostali materijalni rashodi
A26: ='Trošenje sredstava'!A140 -> INSAKO D.O.O. | B26: ='Trošenje sredstava'!B140 -> 39851720584 | C26: ='Trošenje sredstava'!C140 -> ZAGREB - NOVI ZAGREB | D26: ='Trošenje sredstava'!D140 -> 24662.45 | E26: ='Trošenje sredstava'!E140 -> 3221 - Uredski materijal i ostali materijalni rashodi
A27: ='Trošenje sredstava'!A145 -> IZBOR JANDRIĆ d.o.o. | B27: ='Trošenje sredstava'!B145 -> 37078769373 | C27: ='Trošenje sredstava'!C145 -> KORENICA | D27: ='Trošenje sredstava'!D145 -> 6.95 | E27: ='Trošenje sredstava'!E145 -> 3221 - Uredski materijal i ostali materijalni rashodi
A28: ='Trošenje sredstava'!A207 -> MAKROMIKRO GRUPA D.O.O. | B28: ='Trošenje sredstava'!B207 -> 50467974870 | C28: ='Trošenje sredstava'!C207 -> VELIKA GORICA | D28: ='Trošenje sredstava'!D207 -> 1567.5 | E28: ='Trošenje sredstava'!E207 -> 3221 - Uredski materijal i ostali materijalni rashodi
A29: ='Trošenje sredstava'!A238 -> NARODNE NOVINE d.d. | B29: ='Trošenje sredstava'!B238 -> 64546066176 | C29: ='Trošenje sredstava'!C238 -> ZAGREB | D29: ='Trošenje sredstava'!D238 -> 7098.59 | E29: ='Trošenje sredstava'!E238 -> 3221 - Uredski materijal i ostali materijalni rashodi
A30: ='Trošenje sredstava'!A247 -> NOVI INFORMATOR d.o.o. | B30: ='Trošenje sredstava'!B247 -> 03492821167 | C30: ='Trošenje sredstava'!C247 -> ZAGREB | D30: ='Trošenje sredstava'!D247 -> 112.88 | E30: ='Trošenje sredstava'!E247 -> 3221 - Uredski materijal i ostali materijalni rashodi
A31: ='Trošenje sredstava'!A265 -> ORCUS PLUS d.o.o. | B31: ='Trošenje sredstava'!B265 -> 70812508533 | C31: ='Trošenje sredstava'!C265 -> DRAŽICE | D31: ='Trošenje sredstava'!D265 -> 11736.68 | E31: ='Trošenje sredstava'!E265 -> 3221 - Uredski materijal i ostali materijalni rashodi
A32: ='Trošenje sredstava'!A298 -> PROFIN D.O.O. | B32: ='Trošenje sredstava'!B298 -> 56382365450 | C32: ='Trošenje sredstava'!C298 -> ZAGREB | D32: ='Trošenje sredstava'!D298 -> 415.88 | E32: ='Trošenje sredstava'!E298 -> 3221 - Uredski materijal i ostali materijalni rashodi
A33: ='Trošenje sredstava'!A315 -> RU-VE D.O.O. | B33: ='Trošenje sredstava'!B315 -> 88470929840 | C33: ='Trošenje sredstava'!C315 -> SVETA NEDELJA | D33: ='Trošenje sredstava'!D315 -> 0 | E33: ='Trošenje sredstava'!E315 -> 3221 - Uredski materijal i ostali materijalni rashodi
A34: ='Trošenje sredstava'!A334 -> SMIT COMMERCE D.O.O. | B34: ='Trošenje sredstava'!B334 -> 95243482140 | C34: ='Trošenje sredstava'!C334 -> GORNJI STUPNIK | D34: ='Trošenje sredstava'!D334 -> 8324.93 | E34: ='Trošenje sredstava'!E334 -> 3221 - Uredski materijal i ostali materijalni rashodi
A35: ='Trošenje sredstava'!A344 -> ŠTUKA PROM d.o.o. | B35: ='Trošenje sredstava'!B344 -> 62267166481 | C35: ='Trošenje sredstava'!C344 -> SLUNJ | D35: ='Trošenje sredstava'!D344 -> 118.8 | E35: ='Trošenje sredstava'!E344 -> 3221 - Uredski materijal i ostali materijalni rashodi
A36: ='Trošenje sredstava'!A349 -> TEHNOINVEST ZAGREB d.o.o. | B36: ='Trošenje sredstava'!B349 -> 90487555284 | C36: ='Trošenje sredstava'!C349 -> LUČKO | D36: ='Trošenje sredstava'!D349 -> 392.21 | E36: ='Trošenje sredstava'!E349 -> 3221 - Uredski materijal i ostali materijalni rashodi
A37: ='Trošenje sredstava'!A356 -> TISKARA PEČARIĆ-RADOČAJ | B37: ='Trošenje sredstava'!B356 -> 94181620965 | C37: ='Trošenje sredstava'!C356 -> KARLOVAC | D37: ='Trošenje sredstava'!D356 -> 245 | E37: ='Trošenje sredstava'!E356 -> 3221 - Uredski materijal i ostali materijalni rashodi
A38: ='Trošenje sredstava'!A393 -> ZAVOD ZA ISPITIVANJE KVALITETE D.O.O.- ZIK | B38: ='Trošenje sredstava'!B393 -> 74121470605 | C38: ='Trošenje sredstava'!C393 -> ZAGREB | D38: ='Trošenje sredstava'!D393 -> 140 | E38: ='Trošenje sredstava'!E393 -> 3221 - Uredski materijal i ostali materijalni rashodi
A39: ='Trošenje sredstava'!A403 -> ŽACO OBRT ZA PROMIDŽBU | B39: ='Trošenje sredstava'!B403 -> 92620521211 | C39: ='Trošenje sredstava'!C403 -> SLUNJ | D39: ='Trošenje sredstava'!D403 -> 90 | E39: ='Trošenje sredstava'!E403 -> 3221 - Uredski materijal i ostali materijalni rashodi
A40: UKUPNO | D40: =SUM(D14:D39) -> 105877.55 | E40: 3221 - Uredski materijal i ostali materijalni rashodi
A42: ='Trošenje sredstava'!A6 -> 3M CVIJEĆARNICA OBRT vl. Martina Mejaški | B42: ='Trošenje sredstava'!B6 -> 63366665903 | C42: ='Trošenje sredstava'!C6 -> SLUNJ | D42: ='Trošenje sredstava'!D6 -> 160 | E42: ='Trošenje sredstava'!E6 -> 3222 - Materijal i sirovine
A43: ='Trošenje sredstava'!A10 -> AHAT D.O.O. | B43: ='Trošenje sredstava'!B10 -> 63328987619 | C43: ='Trošenje sredstava'!C10 -> ZAGREB | D43: ='Trošenje sredstava'!D10 -> 1093.9 | E43: ='Trošenje sredstava'!E10 -> 3222 - Materijal i sirovine
A44: ='Trošenje sredstava'!A14 -> ALLORES d.o.o. | B44: ='Trošenje sredstava'!B14 -> 21551756555 | C44: ='Trošenje sredstava'!C14 -> OPATIJA | D44: ='Trošenje sredstava'!D14 -> 0 | E44: ='Trošenje sredstava'!E14 -> 3222 - Materijal i sirovine
A45: ='Trošenje sredstava'!A17 -> ATLANTIC TRADE d.o.o. | B45: ='Trošenje sredstava'!B17 -> 65106679992 | C45: ='Trošenje sredstava'!C17 -> ZAGREB | D45: ='Trošenje sredstava'!D17 -> 3203.14 | E45: ='Trošenje sredstava'!E17 -> 3222 - Materijal i sirovine
A46: ='Trošenje sredstava'!A18 -> AUGUŠTANEC d.o.o | B46: ='Trošenje sredstava'!B18 -> 18744122909 | C46: ='Trošenje sredstava'!C18 -> ZAGREB | D46: ='Trošenje sredstava'!D18 -> 45476.04 | E46: ='Trošenje sredstava'!E18 -> 3222 - Materijal i sirovine
A47: ='Trošenje sredstava'!A28 -> AWT INTERNATIONAL D.O.O. | B47: ='Trošenje sredstava'!B28 -> 57159149897 | C47: ='Trošenje sredstava'!C28 -> ZAGREB | D47: ='Trošenje sredstava'!D28 -> 3019.88 | E47: ='Trošenje sredstava'!E28 -> 3222 - Materijal i sirovine
A48: ='Trošenje sredstava'!A32 -> BIOAROMATICA D.O.O. | B48: ='Trošenje sredstava'!B32 -> 22129714117 | C48: ='Trošenje sredstava'!C32 -> ZAGREB | D48: ='Trošenje sredstava'!D32 -> 213.79 | E48: ='Trošenje sredstava'!E32 -> 3222 - Materijal i sirovine
A49: ='Trošenje sredstava'!A33 -> BLATINA d.o.o. | B49: ='Trošenje sredstava'!B33 -> 03829113389 | C49: ='Trošenje sredstava'!C33 -> ZAGREB | D49: ='Trošenje sredstava'!D33 -> 26173.62 | E49: ='Trošenje sredstava'!E33 -> 3222 - Materijal i sirovine
A50: ='Trošenje sredstava'!A34 -> BLEU HOMME d.o.o. | B50: ='Trošenje sredstava'!B34 -> 73550495190 | C50: ='Trošenje sredstava'!C34 -> ZAGREB | D50: ='Trošenje sredstava'!D34 -> 54.92 | E50: ='Trošenje sredstava'!E34 -> 3222 - Materijal i sirovine
A51: ='Trošenje sredstava'!A45 -> CONTY ILLUSION d.o.o. | B51: ='Trošenje sredstava'!B45 -> 33018422832 | C51: ='Trošenje sredstava'!C45 -> ZAGREB | D51: ='Trošenje sredstava'!D45 -> 403.26 | E51: ='Trošenje sredstava'!E45 -> 3222 - Materijal i sirovine
A52: ='Trošenje sredstava'!A46 -> CROATIA FILM D.O.O. | B52: ='Trošenje sredstava'!B46 -> 74221993288 | C52: ='Trošenje sredstava'!C46 -> ZAGREB | D52: ='Trošenje sredstava'!D46 -> 92.63 | E52: ='Trošenje sredstava'!E46 -> 3222 - Materijal i sirovine
A53: ='Trošenje sredstava'!A53 -> DERMA D.D. | B53: ='Trošenje sredstava'!B53 -> 16891143389 | C53: ='Trošenje sredstava'!C53 -> VARAŽDIN | D53: ='Trošenje sredstava'!D53 -> 0 | E53: ='Trošenje sredstava'!E53 -> 3222 - Materijal i sirovine
A54: ='Trošenje sredstava'!A54 -> DEZINSEKCIJA d.o.o. | B54: ='Trošenje sredstava'!B54 -> 75145286506 | C54: ='Trošenje sredstava'!C54 -> RIJEKA | D54: ='Trošenje sredstava'!D54 -> 5555 | E54: ='Trošenje sredstava'!E54 -> 3222 - Materijal i sirovine
A55: ='Trošenje sredstava'!A57 -> DOMAĆA RADINOST IVAN BELAČ | B55: ='Trošenje sredstava'!B57 -> 88879608224 | C55: ='Trošenje sredstava'!C57 -> IVANEC | D55: ='Trošenje sredstava'!D57 -> 452 | E55: ='Trošenje sredstava'!E57 -> 3222 - Materijal i sirovine
A56: ='Trošenje sredstava'!A62 -> DUKAT D.D. | B56: ='Trošenje sredstava'!B62 -> 25457712630 | C56: ='Trošenje sredstava'!C62 -> ZAGREB | D56: ='Trošenje sredstava'!D62 -> 22164.23 | E56: ='Trošenje sredstava'!E62 -> 3222 - Materijal i sirovine
A57: ='Trošenje sredstava'!A63 -> DUŠKO PRETAD - KUĆNA RADINOST Prerad Prkos | B57: ='Trošenje sredstava'!B63 -> 37370922923 | C57: ='Trošenje sredstava'!C63 -> LASINJA | D57: ='Trošenje sredstava'!D63 -> 755 | E57: ='Trošenje sredstava'!E63 -> 3222 - Materijal i sirovine
A58: ='Trošenje sredstava'!A65 -> ECO EDU MEDIA d.o.o. | B58: ='Trošenje sredstava'!B65 -> 05165426723 | C58: ='Trošenje sredstava'!C65 -> MURTER | D58: ='Trošenje sredstava'!D65 -> 330.75 | E58: ='Trošenje sredstava'!E65 -> 3222 - Materijal i sirovine
A59: ='Trošenje sredstava'!A69 -> EFEKTIVNI MIKROORGAMIZMI ORIGINALNA | B59: ='Trošenje sredstava'!B69 -> 51766004021 | C59: ='Trošenje sredstava'!C69 -> RIJEKA | D59: ='Trošenje sredstava'!D69 -> 0 | E59: ='Trošenje sredstava'!E69 -> 3222 - Materijal i sirovine
A60: ='Trošenje sredstava'!A70 -> EINAR INTERNATIONAL D.O.O. | B60: ='Trošenje sredstava'!B70 -> 65432190440 | C60: ='Trošenje sredstava'!C70 -> SESVETE - KRALJEVEC | D60: ='Trošenje sredstava'!D70 -> 730.98 | E60: ='Trošenje sredstava'!E70 -> 3222 - Materijal i sirovine
A61: ='Trošenje sredstava'!A71 -> ELLABO D.O.O. | B61: ='Trošenje sredstava'!B71 -> 48062605125 | C61: ='Trošenje sredstava'!C71 -> ZAGREB SLOBOŠTINA | D61: ='Trošenje sredstava'!D71 -> 126.99 | E61: ='Trošenje sredstava'!E71 -> 3222 - Materijal i sirovine
A62: ='Trošenje sredstava'!A74 -> ENGRAD D.O.O. | B62: ='Trošenje sredstava'!B74 -> 75196420353 | C62: ='Trošenje sredstava'!C74 -> GOSPIĆ | D62: ='Trošenje sredstava'!D74 -> 0 | E62: ='Trošenje sredstava'!E74 -> 3222 - Materijal i sirovine
A63: ='Trošenje sredstava'!A80 -> EURO ROSA IP d.o.o. | B63: ='Trošenje sredstava'!B80 -> 58421021869 | C63: ='Trošenje sredstava'!C80 -> KRAPINA | D63: ='Trošenje sredstava'!D80 -> 720 | E63: ='Trošenje sredstava'!E80 -> 3222 - Materijal i sirovine
A64: ='Trošenje sredstava'!A81 -> EUROPROM D.O.O. | B64: ='Trošenje sredstava'!B81 -> 52602105279 | C64: ='Trošenje sredstava'!C81 -> KARLOVAC | D64: ='Trošenje sredstava'!D81 -> 15885.75 | E64: ='Trošenje sredstava'!E81 -> 3222 - Materijal i sirovine
A65: ='Trošenje sredstava'!A89 -> FRANCK DD | B65: ='Trošenje sredstava'!B89 -> 07676693758 | C65: ='Trošenje sredstava'!C89 -> ZAGREB | D65: ='Trošenje sredstava'!D89 -> 15280.68 | E65: ='Trošenje sredstava'!E89 -> 3222 - Materijal i sirovine
A66: ='Trošenje sredstava'!A91 -> GALLERIA INTERNAZIONALE D.O.O. Tvornica zdrave hrane | B66: ='Trošenje sredstava'!B91 -> 15724166318 | C66: ='Trošenje sredstava'!C91 -> ZAGREB SUSEDGRAD | D66: ='Trošenje sredstava'!D91 -> 343.36 | E66: ='Trošenje sredstava'!E91 -> 3222 - Materijal i sirovine
A67: ='Trošenje sredstava'!A92 -> GASTRO PANTHENON D.O.O. | B67: ='Trošenje sredstava'!B92 -> 43613828760 | C67: ='Trošenje sredstava'!C92 -> ZAGREB - NOVI ZAGREB | D67: ='Trošenje sredstava'!D92 -> 4012.13 | E67: ='Trošenje sredstava'!E92 -> 3222 - Materijal i sirovine
A68: ='Trošenje sredstava'!A96 -> GEOBETON D.O.O.ZBELAVA | B68: ='Trošenje sredstava'!B96 -> 26594427405 | C68: ='Trošenje sredstava'!C96 -> TRNOVEC BARTOLOVEČKI | D68: ='Trošenje sredstava'!D96 -> 2073.63 | E68: ='Trošenje sredstava'!E96 -> 3222 - Materijal i sirovine
A69: ='Trošenje sredstava'!A97 -> GEOTOPO D.O.O. | B69: ='Trošenje sredstava'!B97 -> 47131691337 | C69: ='Trošenje sredstava'!C97 -> KRAPINA | D69: ='Trošenje sredstava'!D97 -> 6000 | E69: ='Trošenje sredstava'!E97 -> 3222 - Materijal i sirovine
A70: ='Trošenje sredstava'!A98 -> GHIA STORE d.o.o. | B70: ='Trošenje sredstava'!B98 -> 81274793209 | C70: ='Trošenje sredstava'!C98 -> PAZIN | D70: ='Trošenje sredstava'!D98 -> 0 | E70: ='Trošenje sredstava'!E98 -> 3222 - Materijal i sirovine
A71: ='Trošenje sredstava'!A103 -> GRIFFON WASTE MANAGEMENT d.o.o. | B71: ='Trošenje sredstava'!B103 -> 48437782274 | C71: ='Trošenje sredstava'!C103 -> ZAGREB | D71: ='Trošenje sredstava'!D103 -> 0 | E71: ='Trošenje sredstava'!E103 -> 3222 - Materijal i sirovine
A72: ='Trošenje sredstava'!A105 -> GUMI CENTAR PIROVAC | B72: ='Trošenje sredstava'!B105 -> 94312090094 | C72: ='Trošenje sredstava'!C105 -> PIROVAC | D72: ='Trošenje sredstava'!D105 -> 0 | E72: ='Trošenje sredstava'!E105 -> 3222 - Materijal i sirovine
A73: ='Trošenje sredstava'!A107 -> HACH LANGE d.o.o. | B73: ='Trošenje sredstava'!B107 -> 05394150139 | C73: ='Trošenje sredstava'!C107 -> VARAŽDIN | D73: ='Trošenje sredstava'!D107 -> 0 | E73: ='Trošenje sredstava'!E107 -> 3222 - Materijal i sirovine
A74: ='Trošenje sredstava'!A112 -> HIGIS D.O.O. | B74: ='Trošenje sredstava'!B112 -> 24508578038 | C74: ='Trošenje sredstava'!C112 -> ŠAPJANE | D74: ='Trošenje sredstava'!D112 -> 1656.2 | E74: ='Trošenje sredstava'!E112 -> 3222 - Materijal i sirovine
A75: ='Trošenje sredstava'!A113 -> HIR d.o.o. za trgovinu, ugostiteljstvo i turizam | B75: ='Trošenje sredstava'!B113 -> 69300817215 | C75: ='Trošenje sredstava'!C113 -> SENJ | D75: ='Trošenje sredstava'!D113 -> 430.93 | E75: ='Trošenje sredstava'!E113 -> 3222 - Materijal i sirovine
A76: ='Trošenje sredstava'!A118 -> HRT HRVATSKA RADIO TELEVIZIJA | B76: ='Trošenje sredstava'!B118 -> 68419124305 | C76: ='Trošenje sredstava'!C118 -> ZAGREB | D76: ='Trošenje sredstava'!D118 -> 0 | E76: ='Trošenje sredstava'!E118 -> 3222 - Materijal i sirovine
A77: ='Trošenje sredstava'!A124 -> HRVATSKI KIŠOBRAN D.O.O.(tabacco doo) | B77: ='Trošenje sredstava'!B124 -> 16330300003 | C77: ='Trošenje sredstava'!C124 -> ZAPREŠIĆ | D77: ='Trošenje sredstava'!D124 -> 1375.55 | E77: ='Trošenje sredstava'!E124 -> 3222 - Materijal i sirovine
A78: ='Trošenje sredstava'!A134 -> IMP TERMOTEHNIKA REGULACIJA D.O.O. | B78: ='Trošenje sredstava'!B134 -> 77802735473 | C78: ='Trošenje sredstava'!C134 -> ZAGREB | D78: ='Trošenje sredstava'!D134 -> 139.65 | E78: ='Trošenje sredstava'!E134 -> 3222 - Materijal i sirovine
A79: ='Trošenje sredstava'!A144 -> IVMAR D.O.O. | B79: ='Trošenje sredstava'!B144 -> 32687097909 | C79: ='Trošenje sredstava'!C144 -> GORNJI STUPNIK | D79: ='Trošenje sredstava'!D144 -> 355.25 | E79: ='Trošenje sredstava'!E144 -> 3222 - Materijal i sirovine
A80: ='Trošenje sredstava'!A150 -> KALI OBRT ZA UGOSTITELJSTVO VL.ANTE BISTRE | B80: ='Trošenje sredstava'!B150 -> 25350249194 | C80: ='Trošenje sredstava'!C150 -> LOVRAN | D80: ='Trošenje sredstava'!D150 -> 2552.25 | E80: ='Trošenje sredstava'!E150 -> 3222 - Materijal i sirovine
A81: ='Trošenje sredstava'!A151 -> KETTNER D.O.O. | B81: ='Trošenje sredstava'!B151 -> 32045029254 | C81: ='Trošenje sredstava'!C151 -> OSIJEK | D81: ='Trošenje sredstava'!D151 -> 0 | E81: ='Trošenje sredstava'!E151 -> 3222 - Materijal i sirovine
A82: ='Trošenje sredstava'!A154 -> KINGTRADE d.o.o. | B82: ='Trošenje sredstava'!B154 -> 38720065593 | C82: ='Trošenje sredstava'!C154 -> MAKARSKA | D82: ='Trošenje sredstava'!D154 -> 459 | E82: ='Trošenje sredstava'!E154 -> 3222 - Materijal i sirovine
A83: ='Trošenje sredstava'!A155 -> KLAONICA CESARICA | B83: ='Trošenje sredstava'!B155 -> 29454869184 | C83: ='Trošenje sredstava'!C155 -> KARLOBAG | D83: ='Trošenje sredstava'!D155 -> 9241.05 | E83: ='Trošenje sredstava'!E155 -> 3222 - Materijal i sirovine
A84: ='Trošenje sredstava'!A157 -> KOCHI, obrt za izradu nakita i suvenira | B84: ='Trošenje sredstava'!B157 -> 29915315600 | C84: ='Trošenje sredstava'!C157 -> ŠIBENIK | D84: ='Trošenje sredstava'!D157 -> 10 | E84: ='Trošenje sredstava'!E157 -> 3222 - Materijal i sirovine
A85: ='Trošenje sredstava'!A160 -> KOMUNALAC D.O.O. | B85: ='Trošenje sredstava'!B160 -> 35080102633 | C85: ='Trošenje sredstava'!C160 -> KORENICA | D85: ='Trošenje sredstava'!D160 -> 2302.86 | E85: ='Trošenje sredstava'!E160 -> 3222 - Materijal i sirovine
A86: ='Trošenje sredstava'!A192 -> LEDO PLUS D.O.O. | B86: ='Trošenje sredstava'!B192 -> 07179054100 | C86: ='Trošenje sredstava'!C192 -> ZAGREB | D86: ='Trošenje sredstava'!D192 -> 112845.67 | E86: ='Trošenje sredstava'!E192 -> 3222 - Materijal i sirovine
A87: ='Trošenje sredstava'!A193 -> LEGEN OBRT ZA IZRADU SUVENIRA vl. Gordana Magdić | B87: ='Trošenje sredstava'!B193 -> 06523498967 | C87: ='Trošenje sredstava'!C193 -> RAKOVICA | D87: ='Trošenje sredstava'!D193 -> 3788.75 | E87: ='Trošenje sredstava'!E193 -> 3222 - Materijal i sirovine
A88: ='Trošenje sredstava'!A194 -> Leksikografski zavod Miroslav Krleža | B88: ='Trošenje sredstava'!B194 -> 49894241709 | C88: ='Trošenje sredstava'!C194 -> ZAGREB | D88: ='Trošenje sredstava'!D194 -> 7.35 | E88: ='Trošenje sredstava'!E194 -> 3222 - Materijal i sirovine
A89: ='Trošenje sredstava'!A199 -> LIKARIJA D.O.O. | B89: ='Trošenje sredstava'!B199 -> 73337648815 | C89: ='Trošenje sredstava'!C199 -> TOUNJ | D89: ='Trošenje sredstava'!D199 -> 500 | E89: ='Trošenje sredstava'!E199 -> 3222 - Materijal i sirovine
A90: ='Trošenje sredstava'!A201 -> LOST d.o.o. | B90: ='Trošenje sredstava'!B201 -> 89984971143 | C90: ='Trošenje sredstava'!C201 -> ZAGREB | D90: ='Trošenje sredstava'!D201 -> 624.25 | E90: ='Trošenje sredstava'!E201 -> 3222 - Materijal i sirovine
A91: ='Trošenje sredstava'!A203 -> M PLUS D.O.O. | B91: ='Trošenje sredstava'!B203 -> 11349129778 | C91: ='Trošenje sredstava'!C203 -> ZAGREB | D91: ='Trošenje sredstava'!D203 -> 0 | E91: ='Trošenje sredstava'!E203 -> 3222 - Materijal i sirovine
A92: ='Trošenje sredstava'!A205 -> MAG-COMMERCE D.O.O. | B92: ='Trošenje sredstava'!B205 -> 57269622478 | C92: ='Trošenje sredstava'!C205 -> ČAKOVEC | D92: ='Trošenje sredstava'!D205 -> 0 | E92: ='Trošenje sredstava'!E205 -> 3222 - Materijal i sirovine
A93: ='Trošenje sredstava'!A208 -> MARIS LIBER D.O.O. | B93: ='Trošenje sredstava'!B208 -> 43767477922 | C93: ='Trošenje sredstava'!C208 -> ZADAR | D93: ='Trošenje sredstava'!D208 -> 10650.61 | E93: ='Trošenje sredstava'!E208 -> 3222 - Materijal i sirovine
A94: ='Trošenje sredstava'!A210 -> Master Martini Hrvatska d.o.o. | B94: ='Trošenje sredstava'!B210 -> 17034070548 | C94: ='Trošenje sredstava'!C210 -> ZAGREB | D94: ='Trošenje sredstava'!D210 -> 4956.88 | E94: ='Trošenje sredstava'!E210 -> 3222 - Materijal i sirovine
A95: ='Trošenje sredstava'!A212 -> MATEX d.o.o. | B95: ='Trošenje sredstava'!B212 -> 99972636273 | C95: ='Trošenje sredstava'!C212 -> ČAKOVEC | D95: ='Trošenje sredstava'!D212 -> 11761.26 | E95: ='Trošenje sredstava'!E212 -> 3222 - Materijal i sirovine
A96: ='Trošenje sredstava'!A213 -> MEDITEL USLUGE d.o.o. | B96: ='Trošenje sredstava'!B213 -> 60611404518 | C96: ='Trošenje sredstava'!C213 -> ZAGREB | D96: ='Trošenje sredstava'!D213 -> 456.75 | E96: ='Trošenje sredstava'!E213 -> 3222 - Materijal i sirovine
A97: ='Trošenje sredstava'!A214 -> MEDUZA D.O.O. | B97: ='Trošenje sredstava'!B214 -> 34212194935 | C97: ='Trošenje sredstava'!C214 -> KARLOVAC | D97: ='Trošenje sredstava'!D214 -> 5067.98 | E97: ='Trošenje sredstava'!E214 -> 3222 - Materijal i sirovine
A98: ='Trošenje sredstava'!A215 -> MESEC d.o.o. | B98: ='Trošenje sredstava'!B215 -> 94513505773 | C98: ='Trošenje sredstava'!C215 -> ZAGREB | D98: ='Trošenje sredstava'!D215 -> 0 | E98: ='Trošenje sredstava'!E215 -> 3222 - Materijal i sirovine
A99: ='Trošenje sredstava'!A217 -> MESNA INDUSTRIJA BRAĆA PIVAC d.o.o. | B99: ='Trošenje sredstava'!B217 -> 28128148322 | C99: ='Trošenje sredstava'!C217 -> VRGORAC | D99: ='Trošenje sredstava'!D217 -> 42065.2 | E99: ='Trošenje sredstava'!E217 -> 3222 - Materijal i sirovine
A100: ='Trošenje sredstava'!A218 -> MESNICE BAŠLJAN d.o.o. | B100: ='Trošenje sredstava'!B218 -> 34075301655 | C100: ='Trošenje sredstava'!C218 -> GAREŠNICA | D100: ='Trošenje sredstava'!D218 -> 3052.06 | E100: ='Trošenje sredstava'!E218 -> 3222 - Materijal i sirovine
A101: ='Trošenje sredstava'!A219 -> METRO CHAS & CARRY D.O.O. | B101: ='Trošenje sredstava'!B219 -> 38016445738 | C101: ='Trošenje sredstava'!C219 -> ZADAR | D101: ='Trošenje sredstava'!D219 -> 224.4 | E101: ='Trošenje sredstava'!E219 -> 3222 - Materijal i sirovine
A102: ='Trošenje sredstava'!A220 -> MF HERBA D.O.O. | B102: ='Trošenje sredstava'!B220 -> 35812974351 | C102: ='Trošenje sredstava'!C220 -> KLIS | D102: ='Trošenje sredstava'!D220 -> 593.55 | E102: ='Trošenje sredstava'!E220 -> 3222 - Materijal i sirovine
A103: ='Trošenje sredstava'!A223 -> MIŠE d.o.o. | B103: ='Trošenje sredstava'!B223 -> 33715822277 | C103: ='Trošenje sredstava'!C223 -> OGULIN | D103: ='Trošenje sredstava'!D223 -> 0 | E103: ='Trošenje sredstava'!E223 -> 3222 - Materijal i sirovine
...
