Workbook

Sheet Trošenje sredstava
A1: JAVNA USTANOVA NACIONALNI PARK PLITVIČKA JEZERA
A2: KATEGORIJA 1
A3: INFORMACIJA O TROŠENJU SREDSTAVA ZA KOLOVOZ 2026. GODINE
A5: Naziv primatelja | B5: OIB primatelja | C5: Sjedište primatelja | D5: Način objave isplaćenog iznosa (EUR) | E5: Vrsta rashoda i izdatka
A6: 3M CVIJEĆARNICA OBRT vl. Martina Mejaški | B6: 63366665903 | C6: SLUNJ | D6: 160 | E6: 3222 - Materijal i sirovine
A7: ABISAL d.o.o. | B7: 77426191417 | C7: RIJEKA | D7: 700 | E7: 3213 - Stručno usavršavanje zaposlenika
A8: ACSI Publishing B.V. | C8: DR ANDELST | D8: 186.17 | E8: 3233 - Usluge promidžbe i informiranja
A9: ACSI Publishing B.V. | C9: DR ANDELST | D9: 377.75 | E9: 3239 - Ostale usluge
A10: AHAT D.O.O. | B10: 63328987619 | C10: ZAGREB | D10: 1093.9 | E10: 3222 - Materijal i sirovine
A11: ALARM AUTOMATIKA D.O.O. | B11: 30532290707 | C11: RIJEKA | D11: 6248.27 | E11: 3232 - Usluge tekućeg i investicijskog održavanja
A12: ALCA ZAGREB d.o.o. | B12: 58353015102 | C12: ZAGREB | D12: 34387.42 | E12: 3221 - Uredski materijal i ostali materijalni rashodi
A13: ALLORES d.o.o. | B13: 21551756555 | C13: OPATIJA | D13: 8737.5 | E13: 3221 - Uredski materijal i ostali materijalni rashodi
A14: ALLORES d.o.o. | B14: 21551756555 | C14: OPATIJA | D14: 0 | E14: 3222 - Materijal i sirovine
A15: AQUA V.M.V. D.O.O. | B15: 86879014193 | C15: ZAGREB | D15: 266.25 | E15: 3221 - Uredski materijal i ostali materijalni rashodi
A16: ARTA - PROJEKTIRANJE D.O.O. | B16: 86036234084 | C16: ZAGREB | D16: 5000 | E16: 3237 - Intelektualne i osobne usluge
A17: ATLANTIC TRADE d.o.o. | B17: 65106679992 | C17: ZAGREB | D17: 3203.14 | E17: 3222 - Materijal i sirovine
A18: AUGUŠTANEC d.o.o | B18: 18744122909 | C18: ZAGREB | D18: 45476.04 | E18: 3222 - Materijal i sirovine
A19: AUTO HORVAT D.O.O. | B19: 31553410597 | C19: DRAGANIĆI | D19: 0 | E19: 3224 - Materijal i dijelovi za tekuće i investicijsko održavanje
A20: AUTO HRVATSKA PSC D.O.O. | B20: 87682591133 | C20: KARLOVAC | D20: 387.5 | E20: 3221 - Uredski materijal i ostali materijalni rashodi
A21: AUTO HRVATSKA PSC D.O.O. | B21: 87682591133 | C21: KARLOVAC | D21: 0 | E21: 3239 - Ostale usluge
A22: AUTO KAMP 'KORANA' - RECEPCIJA - 1711 | C22: MJESTO | D22: 18167.8 | E22: 3295 - Pristojbe i naknade
A23: AUTOELEKTRIČARSKI OBRT - VUKOVIĆ | B23: 04835588743 | C23: RAKOVICA | D23: 1108.13 | E23: 3231 - Usluge telefona, pošte i prijevoza
A24: AUTOKLUB KARLOVAC D.O.O. | B24: 80961444616 | C24: KARLOVAC | D24: 0 | E24: 3221 - Uredski materijal i ostali materijalni rashodi
A25: AUTOKLUB KARLOVAC D.O.O. | B25: 80961444616 | C25: KARLOVAC | D25: 868.1 | E25: 3224 - Materijal i dijelovi za tekuće i investicijsko održavanje
A26: AUTOMAT-T.N. d.o.o. | B26: 77904687906 | C26: ZAGREB | D26: 24581.63 | E26: 4222 - Komunikacijska oprema
A27: AVR.D.O.O. | B27: 79612787745 | C27: ZAGREB | D27: 246.36 | E27: 3224 - Materijal i dijelovi za tekuće i investicijsko održavanje
A28: AWT INTERNATIONAL D.O.O. | B28: 57159149897 | C28: ZAGREB | D28: 3019.88 | E28: 3222 - Materijal i sirovine
A29: B.P.A ZAGREB | B29: 29434328861 | C29: ZAGREB | D29: 5069.63 | E29: 3232 - Usluge tekućeg i investicijskog održavanja
A30: BAZENI HR. D.O.O. | B30: 72767284497 | C30: ZAGREB | D30: 5913.91 | E30: 3232 - Usluge tekućeg i investicijskog održavanja
A31: BIO ULJA d.o.o. | B31: 23960162181 | C31: ŠIBENIK | D31: 2175.51 | E31: 3234 - Komunalne usluge
A32: BIOAROMATICA D.O.O. | B32: 22129714117 | C32: ZAGREB | D32: 213.79 | E32: 3222 - Materijal i sirovine
A33: BLATINA d.o.o. | B33: 03829113389 | C33: ZAGREB | D33: 26173.62 | E33: 3222 - Materijal i sirovine
A34: BLEU HOMME d.o.o. | B34: 73550495190 | C34: ZAGREB | D34: 54.92 | E34: 3222 - Materijal i sirovine
A35: BOOKING.COM B.V. | C35: Amsterdam | D35: 18787.22 | E35: 3239 - Ostale usluge
A36: CENTAR ZA DIGITALIZACIJU d.o.o. | B36: 76647480594 | C36: ZAGREB | D36: 0 | E36: 3233 - Usluge promidžbe i informiranja
A37: CENTAR ZA DIGITALIZACIJU d.o.o. | B37: 76647480594 | C37: ZAGREB | D37: 2031.25 | E37: 3238 - Računalne usluge
A38: CENTAR ZA VOZILA HRVATSKE | B38: 73294314024 | C38: ZAGREB | D38: 1865.28 | E38: 3239 - Ostale usluge
A39: CITARA D.O.O. | B39: 63075963195 | C39: ZAGREB | D39: 8125 | E39: 4227 - Uređaji, strojevi i oprema za ostale namjene
A40: COMEL D.O.O. | B40: 11085290021 | C40: KARLOVAC | D40: 37.43 | E40: 3221 - Uredski materijal i ostali materijalni rashodi
A41: COMEL D.O.O. | B41: 11085290021 | C41: KARLOVAC | D41: 32 | E41: 3225 - Sitni inventar i auto gume
...

Sheet Trošenje sredstava po kontima
A1: JAVNA USTANOVA NACIONALNI PARK PLITVIČKA JEZERA
A2: KATEGORIJA 1
A3: INFORMACIJA O TROŠENJU SREDSTAVA ZA KOLOVOZ 2026. GODINE
A5: Naziv primatelja | B5: OIB primatelja | C5: Sjedište primatelja | D5: Način objave isplaćenog iznosa (EUR) | E5: Vrsta rashoda i izdatka
A6: ='Trošenje sredstava'!A7 -> ABISAL d.o.o. | B6: ='Trošenje sredstava'!B7 -> 77426191417 | C6: ='Trošenje sredstava'!C7 -> RIJEKA | D6: ='Trošenje sredstava'!D7 -> 700 | E6: ='Trošenje sredstava'!E7 -> 3213 - Stručno usavršavanje zaposlenika
A7: ='Trošenje sredstava'!A93 -> GASTRONOMADI d.o.o. | B7: ='Trošenje sredstava'!B93 -> 50760695038 | C7: ='Trošenje sredstava'!C93 -> ZAGREB | D7: ='Trošenje sredstava'!D93 -> 25000 | E7: ='Trošenje sredstava'!E93 -> 3213 - Stručno usavršavanje zaposlenika
A8: ='Trošenje sredstava'!A317 -> RUDAN D.O.O. | B8: ='Trošenje sredstava'!B317 -> 84430586938 | C8: ='Trošenje sredstava'!C317 -> ŽMINJ | D8: ='Trošenje sredstava'!D317 -> 32375 | E8: ='Trošenje sredstava'!E317 -> 3213 - Stručno usavršavanje zaposlenika
A9: ='Trošenje sredstava'!A392 -> ZAVOD ZA ISPITIVANJE KVALITETE D.O.O.- ZIK | B9: ='Trošenje sredstava'!B392 -> 74121470605 | C9: ='Trošenje sredstava'!C392 -> ZAGREB | D9: ='Trošenje sredstava'!D392 -> 2205 | E9: ='Trošenje sredstava'!E392 -> 3213 - Stručno usavršavanje zaposlenika
A10: ='Trošenje sredstava'!A398 -> ZAVOD ZA TURIZEM IN KULTURO KRANJ | C10: ='Trošenje sredstava'!C398 -> KRANJ | D10: ='Trošenje sredstava'!D398 -> 360 | E10: ='Trošenje sredstava'!E398 -> 3213 - Stručno usavršavanje zaposlenika
A11: ='Trošenje sredstava'!A400 -> ZIRS D.D. | B11: ='Trošenje sredstava'!B400 -> 05494093403 | C11: ='Trošenje sredstava'!C400 -> ZAGREB | D11: ='Trošenje sredstava'!D400 -> 625 | E11: ='Trošenje sredstava'!E400 -> 3213 - Stručno usavršavanje zaposlenika
A12: UKUPNO | D12: =SUM(D6:D11) -> 61265 | E12: 3213 - Stručno usavršavanje zaposlenika
A14: ='Trošenje sredstava'!A12 -> ALCA ZAGREB d.o.o. | B14: ='Trošenje sredstava'!B12 -> 58353015102 | C14: ='Trošenje sredstava'!C12 -> ZAGREB | D14: ='Trošenje sredstava'!D12 -> 34387.42 | E14: ='Trošenje sredstava'!E12 -> 3221 - Uredski materijal i ostali materijalni rashodi
A15: ='Trošenje sredstava'!A13 -> ALLORES d.o.o. | B15: ='Trošenje sredstava'!B13 -> 21551756555 | C15: ='Trošenje sredstava'!C13 -> OPATIJA | D15: ='Trošenje sredstava'!D13 -> 8737.5 | E15: ='Trošenje sredstava'!E13 -> 3221 - Uredski materijal i ostali materijalni rashodi
A16: ='Trošenje sredstava'!A15 -> AQUA V.M.V. D.O.O. | B16: ='Trošenje sredstava'!B15 -> 86879014193 | C16: ='Trošenje sredstava'!C15 -> ZAGREB | D16: ='Trošenje sredstava'!D15 -> 266.25 | E16: ='Trošenje sredstava'!E15 -> 3221 - Uredski materijal i ostali materijalni rashodi
A17: ='Trošenje sredstava'!A20 -> AUTO HRVATSKA PSC D.O.O. | B17: ='Trošenje sredstava'!B20 -> 87682591133 | C17: ='Trošenje sredstava'!C20 -> KARLOVAC | D17: ='Trošenje sredstava'!D20 -> 387.5 | E17: ='Trošenje sredstava'!E20 -> 3221 - Uredski materijal i ostali materijalni rashodi
A18: ='Trošenje sredstava'!A24 -> AUTOKLUB KARLOVAC D.O.O. | B18: ='Trošenje sredstava'!B24 -> 80961444616 | C18: ='Trošenje sredstava'!C24 -> KARLOVAC | D18: ='Trošenje sredstava'!D24 -> 0 | E18: ='Trošenje sredstava'!E24 -> 3221 - Uredski materijal i ostali materijalni rashodi
A19: ='Trošenje sredstava'!A40 -> COMEL D.O.O. | B19: ='Trošenje sredstava'!B40 -> 11085290021 | C19: ='Trošenje sredstava'!C40 -> KARLOVAC | D19: ='Trošenje sredstava'!D40 -> 37.43 | E19: ='Trošenje sredstava'!E40 -> 3221 - Uredski materijal i ostali materijalni rashodi
A20: ='Trošenje sredstava'!A52 -> DERMA D.D. | B20: ='Trošenje sredstava'!B52 -> 16891143389 | C20: ='Trošenje sredstava'!C52 -> VARAŽDIN | D20: ='Trošenje sredstava'!D52 -> 2484 | E20: ='Trošenje sredstava'!E52 -> 3221 - Uredski materijal i ostali materijalni rashodi
A21: ='Trošenje sredstava'!A68 -> EFEKTIVNI MIKROORGAMIZMI ORIGINALNA | B21: ='Trošenje sredstava'!B68 -> 51766004021 | C21: ='Trošenje sredstava'!C68 -> RIJEKA | D21: ='Trošenje sredstava'!D68 -> 1214.63 | E21: ='Trošenje sredstava'!E68 -> 3221 - Uredski materijal i ostali materijalni rashodi
A22: ='Trošenje sredstava'!A79 -> EURO ROSA IP d.o.o. | B22: ='Trošenje sredstava'!B79 -> 58421021869 | C22: ='Trošenje sredstava'!C79 -> KRAPINA | D22: ='Trošenje sredstava'!D79 -> 495 | E22: ='Trošenje sredstava'!E79 -> 3221 - Uredski materijal i ostali materijalni rashodi
A23: ='Trošenje sredstava'!A83 -> EXTRA POINT d.o.o. | B23: ='Trošenje sredstava'!B83 -> 97755222599 | C23: ='Trošenje sredstava'!C83 -> POREČ | D23: ='Trošenje sredstava'!D83 -> 1492.2 | E23: ='Trošenje sredstava'!E83 -> 3221 - Uredski materijal i ostali materijalni rashodi
A24: ='Trošenje sredstava'!A102 -> GRIFFON WASTE MANAGEMENT d.o.o. | B24: ='Trošenje sredstava'!B102 -> 48437782274 | C24: ='Trošenje sredstava'!C102 -> ZAGREB | D24: ='Trošenje sredstava'!D102 -> 1443.75 | E24: ='Trošenje sredstava'!E102 -> 3221 - Uredski materijal i ostali materijalni rashodi
A25: ='Trošenje sredstava'!A138 -> INFOLAB d.o.o. | B25: ='Trošenje sredstava'!B138 -> 41823200992 | C25: ='Trošenje sredstava'!C138 -> ZAGREB | D25: ='Trošenje sredstava'!D138 -> 20 | E25: ='Trošenje sredstava'!E138 -> 3221 - Uredski materijal i ostali materijalni rashodi
A26: ='Trošenje sredstava'!A140 -> INSAKO D.O.O. | B26: ='Trošenje sredstava'!B140 -> 39851720584 | C26: ='Trošenje sredstava'!C140 -> ZAGREB - NOVI ZAGREB | D26: ='Trošenje sredstava'!D140 -> 24662.45 | E26: ='Trošenje sredstava'!E140 -> 3221 - Uredski materijal i ostali materijalni rashodi
A27: ='Trošenje sredstava'!A145 -> IZBOR JANDRIĆ d.o.o. | B27: ='Trošenje sredstava'!B145 -> 37078769373 | C27: ='Trošenje sredstava'!C145 -> KORENICA | D27: ='Trošenje sredstava'!D145 -> 6.95 | E27: ='Trošenje sredstava'!E145 -> 3221 - Uredski materijal i ostali materijalni rashodi
A28: ='Trošenje sredstava'!A207 -> MAKROMIKRO GRUPA D.O.O. | B28: ='Trošenje sredstava'!B207 -> 50467974870 | C28: ='Trošenje sredstava'!C207 -> VELIKA GORICA | D28: ='Trošenje sredstava'!D207 -> 1567.5 | E28: ='Trošenje sredstava'!E207 -> 3221 - Uredski materijal i ostali materijalni rashodi
A29: ='Trošenje sredstava'!A238 -> NARODNE NOVINE d.d. | B29: ='Trošenje sredstava'!B238 -> 64546066176 | C29: ='Trošenje sredstava'!C238 -> ZAGREB | D29: ='Trošenje sredstava'!D238 -> 7098.59 | E29: ='Trošenje sredstava'!E238 -> 3221 - Uredski materijal i ostali materijalni rashodi
A30: ='Trošenje sredstava'!A247 -> NOVI INFORMATOR d.o.o. | B30: ='Trošenje sredstava'!B247 -> 03492821167 | C30: ='Trošenje sredstava'!C247 -> ZAGREB | D30: ='Trošenje sredstava'!D247 -> 112.88 | E30: ='Trošenje sredstava'!E247 -> 3221 - Uredski materijal i ostali materijalni rashodi
A31: ='Trošenje sredstava'!A265 -> ORCUS PLUS d.o.o. | B31: ='Trošenje sredstava'!B265 -> 70812508533 | C31: ='Trošenje sredstava'!C265 -> DRAŽICE | D31: ='Trošenje sredstava'!D265 -> 11736.68 | E31: ='Trošenje sredstava'!E265 -> 3221 - Uredski materijal i ostali materijalni rashodi
A32: ='Trošenje sredstava'!A298 -> PROFIN D.O.O. | B32: ='Trošenje sredstava'!B298 -> 56382365450 | C32: ='Trošenje sredstava'!C298 -> ZAGREB | D32: ='Trošenje sredstava'!D298 -> 415.88 | E32: ='Trošenje sredstava'!E298 -> 3221 - Uredski materijal i ostali materijalni rashodi
A33: ='Trošenje sredstava'!A315 -> RU-VE D.O.O. | B33: ='Trošenje sredstava'!B315 -> 88470929840 | C33: ='Trošenje sredstava'!C315 -> SVETA NEDELJA | D33: ='Trošenje sredstava'!D315 -> 0 | E33: ='Trošenje sredstava'!E315 -> 3221 - Uredski materijal i ostali materijalni rashodi
A34: ='Trošenje sredstava'!A334 -> SMIT COMMERCE D.O.O. | B34: ='Trošenje sredstava'!B334 -> 95243482140 | C34: ='Trošenje sredstava'!C334 -> GORNJI STUPNIK | D34: ='Trošenje sredstava'!D334 -> 8324.93 | E34: ='Trošenje sredstava'!E334 -> 3221 - Uredski materijal i ostali materijalni rashodi
A35: ='Trošenje sredstava'!A344 -> ŠTUKA PROM d.o.o. | B35: ='Trošenje sredstava'!B344 -> 62267166481 | C35: ='Trošenje sredstava'!C344 -> SLUNJ | D35: ='Trošenje sredstava'!D344 -> 118.8 | E35: ='Trošenje sredstava'!E344 -> 3221 - Uredski materijal i ostali materijalni rashodi
A36: ='Trošenje sredstava'!A349 -> TEHNOINVEST ZAGREB d.o.o. | B36: ='Trošenje sredstava'!B349 -> 90487555284 | C36: ='Trošenje sredstava'!C349 -> LUČKO | D36: ='Trošenje sredstava'!D349 -> 392.21 | E36: ='Trošenje sredstava'!E349 -> 3221 - Uredski materijal i ostali materijalni rashodi
A37: ='Trošenje sredstava'!A356 -> TISKARA PEČARIĆ-RADOČAJ | B37: ='Trošenje sredstava'!B356 -> 94181620965 | C37: ='Trošenje sredstava'!C356 -> KARLOVAC | D37: ='Trošenje sredstava'!D356 -> 245 | E37: ='Trošenje sredstava'!E356 -> 3221 - Uredski materijal i ostali materijalni rashodi
A38: ='Trošenje sredstava'!A393 -> ZAVOD ZA ISPITIVANJE KVALITETE D.O.O.- ZIK | B38: ='Trošenje sredstava'!B393 -> 74121470605 | C38: ='Trošenje sredstava'!C393 -> ZAGREB | D38: ='Trošenje sredstava'!D393 -> 140 | E38: ='Trošenje sredstava'!E393 -> 3221 - Uredski materijal i ostali materijalni rashodi
A39: ='Trošenje sredstava'!A403 -> ŽACO OBRT ZA PROMIDŽBU | B39: ='Trošenje sredstava'!B403 -> 92620521211 | C39: ='Trošenje sredstava'!C403 -> SLUNJ | D39: ='Trošenje sredstava'!D403 -> 90 | E39: ='Trošenje sredstava'!E403 -> 3221 - Uredski materijal i ostali materijalni rashodi
A40: UKUPNO | D40: =SUM(D14:D39) -> 105877.55 | E40: 3221 - Uredski materijal i ostali materijalni rashodi
A42: ='Trošenje sredstava'!A6 -> 3M CVIJEĆARNICA OBRT vl. Martina Mejaški | B42: ='Trošenje sredstava'!B6 -> 63366665903 | C42: ='Trošenje sredstava'!C6 -> SLUNJ | D42: ='Trošenje sredstava'!D6 -> 160 | E42: ='Trošenje sredstava'!E6 -> 3222 - Materijal i sirovine
A43: ='Trošenje sredstava'!A10 -> AHAT D.O.O. | B43: ='Trošenje sredstava'!B10 -> 63328987619 | C43: ='Trošenje sredstava'!C10 -> ZAGREB | D43: ='Trošenje sredstava'!D10 -> 1093.9 | E43: ='Trošenje sredstava'!E10 -> 3222 - Materijal i sirovine
...
